BEGIN:VCALENDAR
VERSION:2.0
PRODID:-//SOAR - ECPv6.15.20//NONSGML v1.0//EN
CALSCALE:GREGORIAN
METHOD:PUBLISH
X-ORIGINAL-URL:https://soar-ky.org
X-WR-CALDESC:Events for SOAR
REFRESH-INTERVAL;VALUE=DURATION:PT1H
X-Robots-Tag:noindex
X-PUBLISHED-TTL:PT1H
BEGIN:VTIMEZONE
TZID:America/New_York
BEGIN:DAYLIGHT
TZOFFSETFROM:-0500
TZOFFSETTO:-0400
TZNAME:EDT
DTSTART:20230312T070000
END:DAYLIGHT
BEGIN:STANDARD
TZOFFSETFROM:-0400
TZOFFSETTO:-0500
TZNAME:EST
DTSTART:20231105T060000
END:STANDARD
BEGIN:DAYLIGHT
TZOFFSETFROM:-0500
TZOFFSETTO:-0400
TZNAME:EDT
DTSTART:20240310T070000
END:DAYLIGHT
BEGIN:STANDARD
TZOFFSETFROM:-0400
TZOFFSETTO:-0500
TZNAME:EST
DTSTART:20241103T060000
END:STANDARD
BEGIN:DAYLIGHT
TZOFFSETFROM:-0500
TZOFFSETTO:-0400
TZNAME:EDT
DTSTART:20250309T070000
END:DAYLIGHT
BEGIN:STANDARD
TZOFFSETFROM:-0400
TZOFFSETTO:-0500
TZNAME:EST
DTSTART:20251102T060000
END:STANDARD
END:VTIMEZONE
BEGIN:VEVENT
DTSTART;TZID=America/New_York:20240828T180000
DTEND;TZID=America/New_York:20240828T190000
DTSTAMP:20260424T113745
CREATED:20240826T174026Z
LAST-MODIFIED:20240826T180618Z
UID:10000133-1724868000-1724871600@soar-ky.org
SUMMARY:SOAR Innovation Inspirational Speaker Series at Morehead State University
DESCRIPTION:  \nSOAR Innovation Inspirational Speaker Series: Kyle Candill \nJoin us for an inspiring evening at the SOAR Innovation Inspirational Speaker Series featuring Kyle Candill\, Founder and CEO of 4C Innovations. Discover how leaders like Kyle have turned challenges into opportunities and transformed their ideas into successful ventures. Whether you’re an entrepreneur\, a student\, or simply someone with big dreams\, this event will leave you motivated to achieve your own goals! \nEvent Details: \n\nDate: Wednesday\, August 28\nTime: 6:00 PM\nLocation: Morehead State University\, ADUC 329\nAdmission: Free and open to all\n\nAbout Kyle Candill: Kyle Candill is a successful entrepreneur who has taken his ideas and built a thriving business. He will share his journey\, lessons learned\, and tips for turning adversity into opportunity. Don’t miss this chance to gain insights from a leader in innovation and be inspired to reach for your dreams! \nRegistration: To attend\, click here or scan the QR code below to register.
URL:https://soar-ky.org/soar-event-calendar/soar-innovation-inspirational-speaker-series-at-morehead-state-university/
LOCATION:Morehead State University (ADUC) (400 East 2nd Street\, Morehead\, KY 40351) Room 325
CATEGORIES:Innovation Inspirational Speaker Series
END:VEVENT
END:VCALENDAR